BEGIN:VCALENDAR
VERSION:2.0
PRODID:-//EChO - ECPv4.9.4//NONSGML v1.0//EN
CALSCALE:GREGORIAN
METHOD:PUBLISH
X-WR-CALNAME:EChO
X-ORIGINAL-URL:http://echo.asn.au
X-WR-CALDESC:Events for EChO
BEGIN:VTIMEZONE
TZID:"Australia/Adelaide"
BEGIN:STANDARD
TZOFFSETFROM:+1030
TZOFFSETTO:+0930
TZNAME:ACST
DTSTART:20200404T163000
END:STANDARD
BEGIN:DAYLIGHT
TZOFFSETFROM:+0930
TZOFFSETTO:+1030
TZNAME:ACDT
DTSTART:20201003T163000
END:DAYLIGHT
END:VTIMEZONE
BEGIN:VEVENT
DTSTART;TZID="Australia/Adelaide":20200224T173000
DTEND;TZID="Australia/Adelaide":20200224T200000
DTSTAMP:20210223T103925
CREATED:20200619T005643Z
LAST-MODIFIED:20200619T005643Z
UID:960-1582565400-1582574400@echo.asn.au
SUMMARY:EChO Annual General Meeting Twilight
DESCRIPTION:
URL:http://echo.asn.au/event/echo-annual-general-meeting-twilight/
END:VEVENT
END:VCALENDAR