BEGIN:VCALENDAR
VERSION:2.0
PRODID:-//EChO - ECPv4.9.4//NONSGML v1.0//EN
CALSCALE:GREGORIAN
METHOD:PUBLISH
X-WR-CALNAME:EChO
X-ORIGINAL-URL:http://echo.asn.au
X-WR-CALDESC:Events for EChO
BEGIN:VTIMEZONE
TZID:"Australia/Adelaide"
BEGIN:STANDARD
TZOFFSETFROM:+1030
TZOFFSETTO:+0930
TZNAME:ACST
DTSTART:20170401T163000
END:STANDARD
BEGIN:DAYLIGHT
TZOFFSETFROM:+0930
TZOFFSETTO:+1030
TZNAME:ACDT
DTSTART:20170930T163000
END:DAYLIGHT
END:VTIMEZONE
BEGIN:VEVENT
DTSTART;TZID="Australia/Adelaide":20170531T163000
DTEND;TZID="Australia/Adelaide":20170531T183000
DTSTAMP:20210225T170329
CREATED:20170505T064537Z
LAST-MODIFIED:20170505T064537Z
UID:537-1496248200-1496255400@echo.asn.au
SUMMARY:EChO Twilights presents: Mindfulness in the Early Years
DESCRIPTION:Mindfulness can play an important part in early childhood education\nThis 90-minute workshop is designed to be experiential\, interactive and most importantly provide a taste of what mindfulness is and the part that it can play in making your work with young children more rewarding and sustainable. You will learn some simple mindfulness skills that you can take away and practise for your personal well-being and practise with children. \nÂ  \nGuest Speaker\, Tina Gibson\nOver the past three years I have become the leading Teacher and Teacher trainer in Australia for the Mindful Self-Compassion program. I have developed and delivered a compassion-based mindfulness program for children â€“â€˜Creating Balanceâ€™. The program is based on my experience teaching both the Mindful Schools program and the Still Quiet Place program (both of these are evidence based programs). The main intention of the program is to teach mindful body awareness (introception)\, improving their ability to notice\, understand and wisely respond to the ongoing fluctuations of emotion\, cognition and physical sensations within their day-to- day life. \n
URL:http://echo.asn.au/event/echo-twilights-presents-mindfulness-in-the-early-years/
LOCATION:Marine Discovery Centre\, Star of the Sea School\, 333 Military Rd\, Henley Beach\, SA\, 5022\, Australia
ORGANIZER;CN="Early%20Childhood%20Organisation%20Inc":MAILTO:earlychildhoodorganisation@gmail.com
END:VEVENT
END:VCALENDAR