BEGIN:VCALENDAR
VERSION:2.0
PRODID:-//EChO - ECPv4.9.4//NONSGML v1.0//EN
CALSCALE:GREGORIAN
METHOD:PUBLISH
X-WR-CALNAME:EChO
X-ORIGINAL-URL:http://echo.asn.au
X-WR-CALDESC:Events for EChO
BEGIN:VTIMEZONE
TZID:"Australia/Adelaide"
BEGIN:STANDARD
TZOFFSETFROM:+1030
TZOFFSETTO:+0930
TZNAME:ACST
DTSTART:20170401T163000
END:STANDARD
BEGIN:DAYLIGHT
TZOFFSETFROM:+0930
TZOFFSETTO:+1030
TZNAME:ACDT
DTSTART:20170930T163000
END:DAYLIGHT
END:VTIMEZONE
BEGIN:VEVENT
DTSTART;TZID="Australia/Adelaide":20170907T164500
DTEND;TZID="Australia/Adelaide":20170907T183000
DTSTAMP:20210225T170051
CREATED:20170704T114145Z
LAST-MODIFIED:20170704T114221Z
UID:547-1504802700-1504809000@echo.asn.au
SUMMARY:EChO Twilights presents Music in Early Childhood
DESCRIPTION:Gaby Freer will be running a highly interactive\, practical music workshop for educators of babies through to five year old children. The aim is to provide a repertoire of good quality rhymes and songs and ideas of what to do with the same rhymes or songs with different ages and developmental stages. \n  \n
URL:http://echo.asn.au/event/echo-twilights-presents-music-in-early-childhood/
LOCATION:Paradise Primary School Hall\, 100 George Street\, Paradise\, South Australia\, 5075\, Australia
ORGANIZER;CN="Early%20Childhood%20Organisation%20Inc":MAILTO:earlychildhoodorganisation@gmail.com
END:VEVENT
END:VCALENDAR