BEGIN:VCALENDAR
VERSION:2.0
PRODID:-//EChO - ECPv4.9.4//NONSGML v1.0//EN
CALSCALE:GREGORIAN
METHOD:PUBLISH
X-WR-CALNAME:EChO
X-ORIGINAL-URL:http://echo.asn.au
X-WR-CALDESC:Events for EChO
BEGIN:VTIMEZONE
TZID:"Australia/Adelaide"
BEGIN:STANDARD
TZOFFSETFROM:+1030
TZOFFSETTO:+0930
TZNAME:ACST
DTSTART:20200404T163000
END:STANDARD
BEGIN:DAYLIGHT
TZOFFSETFROM:+0930
TZOFFSETTO:+1030
TZNAME:ACDT
DTSTART:20201003T163000
END:DAYLIGHT
END:VTIMEZONE
BEGIN:VEVENT
DTSTART;TZID="Australia/Adelaide":20200625T170000
DTEND;TZID="Australia/Adelaide":20200625T180000
DTSTAMP:20210223T104002
CREATED:20200619T005520Z
LAST-MODIFIED:20200619T005520Z
UID:958-1593104400-1593108000@echo.asn.au
SUMMARY:Twilight: The Arts as Living Literacy with a Vino [SOLD OUT]
DESCRIPTION:
URL:http://echo.asn.au/event/twilight-the-arts-as-living-literacy-with-a-vino-sold-out/
END:VEVENT
END:VCALENDAR