BEGIN:VCALENDAR
VERSION:2.0
PRODID:-//EChO - ECPv4.9.4//NONSGML v1.0//EN
CALSCALE:GREGORIAN
METHOD:PUBLISH
X-WR-CALNAME:EChO
X-ORIGINAL-URL:http://echo.asn.au
X-WR-CALDESC:Events for EChO
BEGIN:VTIMEZONE
TZID:"Australia/Adelaide"
BEGIN:STANDARD
TZOFFSETFROM:+1030
TZOFFSETTO:+0930
TZNAME:ACST
DTSTART:20200404T163000
END:STANDARD
BEGIN:DAYLIGHT
TZOFFSETFROM:+0930
TZOFFSETTO:+1030
TZNAME:ACDT
DTSTART:20201003T163000
END:DAYLIGHT
END:VTIMEZONE
BEGIN:VEVENT
DTSTART;TZID="Australia/Adelaide":20200509T090000
DTEND;TZID="Australia/Adelaide":20200509T143000
DTSTAMP:20210223T103950
CREATED:20200619T005712Z
LAST-MODIFIED:20200619T005712Z
UID:962-1589014800-1589034600@echo.asn.au
SUMMARY:Working with and creating texts in the early years : an inquiry approach
DESCRIPTION:
URL:http://echo.asn.au/event/working-with-and-creating-texts-in-the-early-years-an-inquiry-approach-2/
END:VEVENT
END:VCALENDAR